BEGIN:VCALENDAR
VERSION:2.0
PRODID:-//Alma Center formerly The Bomes Theatre - ECPv6.15.20//NONSGML v1.0//EN
CALSCALE:GREGORIAN
METHOD:PUBLISH
X-ORIGINAL-URL:https://almacenterri.com
X-WR-CALDESC:Events for Alma Center formerly The Bomes Theatre
REFRESH-INTERVAL;VALUE=DURATION:PT1H
X-Robots-Tag:noindex
X-PUBLISHED-TTL:PT1H
BEGIN:VTIMEZONE
TZID:America/New_York
BEGIN:DAYLIGHT
TZOFFSETFROM:-0500
TZOFFSETTO:-0400
TZNAME:EDT
DTSTART:20220313T070000
END:DAYLIGHT
BEGIN:STANDARD
TZOFFSETFROM:-0400
TZOFFSETTO:-0500
TZNAME:EST
DTSTART:20221106T060000
END:STANDARD
BEGIN:DAYLIGHT
TZOFFSETFROM:-0500
TZOFFSETTO:-0400
TZNAME:EDT
DTSTART:20230312T070000
END:DAYLIGHT
BEGIN:STANDARD
TZOFFSETFROM:-0400
TZOFFSETTO:-0500
TZNAME:EST
DTSTART:20231105T060000
END:STANDARD
BEGIN:DAYLIGHT
TZOFFSETFROM:-0500
TZOFFSETTO:-0400
TZNAME:EDT
DTSTART:20240310T070000
END:DAYLIGHT
BEGIN:STANDARD
TZOFFSETFROM:-0400
TZOFFSETTO:-0500
TZNAME:EST
DTSTART:20241103T060000
END:STANDARD
END:VTIMEZONE
BEGIN:VEVENT
DTSTART;VALUE=DATE:20231020
DTEND;VALUE=DATE:20231021
DTSTAMP:20260425T161248
CREATED:20231018T124622Z
LAST-MODIFIED:20231018T124622Z
UID:1032-1697760000-1697846399@almacenterri.com
SUMMARY:Henry Garcia - Postponed
DESCRIPTION:
URL:https://almacenterri.com/event/henry-garcia-postponed/
LOCATION:Alma Center\, 1017 Broad Street\, Providence\, RI\, 02905
CATEGORIES:public
ATTACH;FMTTYPE=image/jpeg:https://almacenterri.com/wp-content/uploads/2023/10/f48b1154-4e1a-4976-916f-86764e324aaa.jpg
END:VEVENT
BEGIN:VEVENT
DTSTART;TZID=America/New_York:20230927T170000
DTEND;TZID=America/New_York:20230927T200000
DTSTAMP:20260425T161248
CREATED:20230913T113509Z
LAST-MODIFIED:20230913T113509Z
UID:974-1695834000-1695844800@almacenterri.com
SUMMARY:Latina 100.3 FM
DESCRIPTION:
URL:https://almacenterri.com/event/latina-100-3-fm/
LOCATION:Alma Center\, 1017 Broad Street\, Providence\, RI\, 02905
CATEGORIES:public
ATTACH;FMTTYPE=image/jpeg:https://almacenterri.com/wp-content/uploads/2023/09/IMG_4354.jpg
END:VEVENT
BEGIN:VEVENT
DTSTART;TZID=America/New_York:20230922T210000
DTEND;TZID=America/New_York:20230923T020000
DTSTAMP:20260425T161248
CREATED:20230716T172506Z
LAST-MODIFIED:20230913T113234Z
UID:895-1695416400-1695434400@almacenterri.com
SUMMARY:El Rubio Del Acordeon
DESCRIPTION:
URL:https://almacenterri.com/event/el-rubio-del-acordeon/
LOCATION:Alma Center\, 1017 Broad Street\, Providence\, RI\, 02905
CATEGORIES:public
ATTACH;FMTTYPE=image/jpeg:https://almacenterri.com/wp-content/uploads/2023/07/5a728a01-9046-430b-b491-2619d5388c73.jpg
END:VEVENT
BEGIN:VEVENT
DTSTART;TZID=America/New_York:20230422T200000
DTEND;TZID=America/New_York:20230422T200000
DTSTAMP:20260425T161248
CREATED:20230302T184730Z
LAST-MODIFIED:20230316T163900Z
UID:608-1682193600-1682193600@almacenterri.com
SUMMARY:ALEX BUENO EN CONCIERTO
DESCRIPTION:VENT DETAILS / DESCRIPCION DE EVENTO\nVENTURA ENTERTAINMENT & BOMES THEATRE PRESENTAN \n\nSabado 22 de Abril!\n\nALEX BUENO en concierto\ncon su banda completa!\n\nMUSICA POR DJ TRAVIESO\n\nEN BOMES THEATRE – Tickets $40\n\nRESERVA AHORA – 401.286.6562 o 401.837.3100
URL:https://almacenterri.com/event/alex-bueno-en-concierto/
LOCATION:Alma Center\, 1017 Broad Street\, Providence\, RI\, 02905
CATEGORIES:public
ATTACH;FMTTYPE=image/jpeg:https://almacenterri.com/wp-content/uploads/2023/03/fc969d43-8be2-4f4b-b302-39a7705e11e0.jpg
END:VEVENT
BEGIN:VEVENT
DTSTART;TZID=America/New_York:20230324T220000
DTEND;TZID=America/New_York:20230324T220000
DTSTAMP:20260425T161248
CREATED:20230301T004612Z
LAST-MODIFIED:20230316T163805Z
UID:603-1679695200-1679695200@almacenterri.com
SUMMARY:ZEO MUÑOZ EN CONCIERTO
DESCRIPTION:
URL:https://almacenterri.com/event/zeo-munoz-en-concierto/
LOCATION:Alma Center\, 1017 Broad Street\, Providence\, RI\, 02905
CATEGORIES:public
ATTACH;FMTTYPE=image/jpeg:https://almacenterri.com/wp-content/uploads/2023/02/dbed5460-e383-4e88-bfb1-aadcc9d2a8ea.jpg
END:VEVENT
BEGIN:VEVENT
DTSTART;VALUE=DATE:20230324
DTEND;VALUE=DATE:20230325
DTSTAMP:20260425T161248
CREATED:20230202T140607Z
LAST-MODIFIED:20230316T163805Z
UID:593-1679616000-1679702399@almacenterri.com
SUMMARY:Bachatipico Mas Esperado
DESCRIPTION:
URL:https://almacenterri.com/event/bachatipico-mas-esperado/
LOCATION:Alma Center\, 1017 Broad Street\, Providence\, RI\, 02905
CATEGORIES:public
ATTACH;FMTTYPE=image/jpeg:https://almacenterri.com/wp-content/uploads/2023/02/630be1b3-06b9-4474-a9fb-441eec250e0b.jpg
END:VEVENT
BEGIN:VEVENT
DTSTART;VALUE=DATE:20230317
DTEND;VALUE=DATE:20230318
DTSTAMP:20260425T161248
CREATED:20230226T124010Z
LAST-MODIFIED:20230316T163804Z
UID:599-1679011200-1679097599@almacenterri.com
SUMMARY:Bachatipico Mas Esperado
DESCRIPTION:Buy tickets!
URL:https://almacenterri.com/event/bachatipico-mas-esperado-2/
LOCATION:Alma Center\, 1017 Broad Street\, Providence\, RI\, 02905
CATEGORIES:public
ATTACH;FMTTYPE=image/jpeg:https://almacenterri.com/wp-content/uploads/2023/02/4cc0da04-a77e-4242-aec7-3f02c52463a7.jpg
END:VEVENT
BEGIN:VEVENT
DTSTART;TZID=America/New_York:20230224T200000
DTEND;TZID=America/New_York:20230224T200000
DTSTAMP:20260425T161248
CREATED:20230122T220631Z
LAST-MODIFIED:20230316T163803Z
UID:589-1677268800-1677268800@almacenterri.com
SUMMARY:LA VOZ DE LA TERNURA ZACARIAS FERREIRA EN VIVO
DESCRIPTION:
URL:https://almacenterri.com/event/la-voz-de-la-ternura-zacarias-ferreira-en-vivo/
LOCATION:Alma Center\, 1017 Broad Street\, Providence\, RI\, 02905
CATEGORIES:public
ATTACH;FMTTYPE=image/jpeg:https://almacenterri.com/wp-content/uploads/2023/01/93a5a63c-7df8-46ed-94f4-9559b09ae273.jpg
END:VEVENT
BEGIN:VEVENT
DTSTART;VALUE=DATE:20230211
DTEND;VALUE=DATE:20230212
DTSTAMP:20260425T161248
CREATED:20230116T153907Z
LAST-MODIFIED:20230316T163802Z
UID:585-1676073600-1676159999@almacenterri.com
SUMMARY:Tributo A Aventuro
DESCRIPTION:
URL:https://almacenterri.com/event/tributo-a-aventuro/
LOCATION:Alma Center\, 1017 Broad Street\, Providence\, RI\, 02905
CATEGORIES:public
ATTACH;FMTTYPE=image/jpeg:https://almacenterri.com/wp-content/uploads/2023/01/cc41a138-3bb7-4565-a94f-afe6afd4e5fb.jpg
END:VEVENT
END:VCALENDAR