BEGIN:VCALENDAR
VERSION:2.0
PRODID:-//Alma Center formerly The Bomes Theatre - ECPv6.15.20//NONSGML v1.0//EN
CALSCALE:GREGORIAN
METHOD:PUBLISH
X-WR-CALNAME:Alma Center formerly The Bomes Theatre
X-ORIGINAL-URL:https://almacenterri.com
X-WR-CALDESC:Events for Alma Center formerly The Bomes Theatre
REFRESH-INTERVAL;VALUE=DURATION:PT1H
X-Robots-Tag:noindex
X-PUBLISHED-TTL:PT1H
BEGIN:VTIMEZONE
TZID:America/New_York
BEGIN:DAYLIGHT
TZOFFSETFROM:-0500
TZOFFSETTO:-0400
TZNAME:EDT
DTSTART:20220313T070000
END:DAYLIGHT
BEGIN:STANDARD
TZOFFSETFROM:-0400
TZOFFSETTO:-0500
TZNAME:EST
DTSTART:20221106T060000
END:STANDARD
BEGIN:DAYLIGHT
TZOFFSETFROM:-0500
TZOFFSETTO:-0400
TZNAME:EDT
DTSTART:20230312T070000
END:DAYLIGHT
BEGIN:STANDARD
TZOFFSETFROM:-0400
TZOFFSETTO:-0500
TZNAME:EST
DTSTART:20231105T060000
END:STANDARD
BEGIN:DAYLIGHT
TZOFFSETFROM:-0500
TZOFFSETTO:-0400
TZNAME:EDT
DTSTART:20240310T070000
END:DAYLIGHT
BEGIN:STANDARD
TZOFFSETFROM:-0400
TZOFFSETTO:-0500
TZNAME:EST
DTSTART:20241103T060000
END:STANDARD
BEGIN:DAYLIGHT
TZOFFSETFROM:-0500
TZOFFSETTO:-0400
TZNAME:EDT
DTSTART:20250309T070000
END:DAYLIGHT
BEGIN:STANDARD
TZOFFSETFROM:-0400
TZOFFSETTO:-0500
TZNAME:EST
DTSTART:20251102T060000
END:STANDARD
END:VTIMEZONE
BEGIN:VEVENT
DTSTART;TZID=America/New_York:20241012T180000
DTEND;TZID=America/New_York:20241012T210000
DTSTAMP:20260425T194943
CREATED:20240517T175724Z
LAST-MODIFIED:20241007T143731Z
UID:1129-1728756000-1728766800@almacenterri.com
SUMMARY:Wings of Life Fashion Show
DESCRIPTION:View/Download Program Book
URL:https://almacenterri.com/event/wings-of-life-fashion-show/
LOCATION:Alma Center\, 1017 Broad Street\, Providence\, RI\, 02905
CATEGORIES:public
ATTACH;FMTTYPE=image/jpeg:https://almacenterri.com/wp-content/uploads/2024/05/poprtada6-copia.jpg
END:VEVENT
BEGIN:VEVENT
DTSTART;TZID=America/New_York:20240811T150000
DTEND;TZID=America/New_York:20240811T220000
DTSTAMP:20260425T194943
CREATED:20240517T174627Z
LAST-MODIFIED:20240517T174627Z
UID:1126-1723388400-1723413600@almacenterri.com
SUMMARY:Carnival
DESCRIPTION:
URL:https://almacenterri.com/event/carnival/
LOCATION:Alma Center\, 1017 Broad Street\, Providence\, RI\, 02905
CATEGORIES:public
ATTACH;FMTTYPE=image/jpeg:https://almacenterri.com/wp-content/uploads/2024/05/PHOTO-2024-05-08-18-01-11.jpg
END:VEVENT
BEGIN:VEVENT
DTSTART;TZID=America/New_York:20240602T160000
DTEND;TZID=America/New_York:20240602T200000
DTSTAMP:20260425T194943
CREATED:20240415T103815Z
LAST-MODIFIED:20240415T103815Z
UID:1095-1717344000-1717358400@almacenterri.com
SUMMARY:Nuestra Belleza Iyfantil & Juvenil Rhode Island
DESCRIPTION:
URL:https://almacenterri.com/event/nuestra-belleza-iyfantil-juvenil-rhode-island/
LOCATION:Alma Center\, 1017 Broad Street\, Providence\, RI\, 02905
CATEGORIES:public
ATTACH;FMTTYPE=image/jpeg:https://almacenterri.com/wp-content/uploads/2024/04/5c433c5c-7c12-4383-9211-d5708fcc63e8.jpg
END:VEVENT
BEGIN:VEVENT
DTSTART;TZID=America/New_York:20240512T150000
DTEND;TZID=America/New_York:20240513T000000
DTSTAMP:20260425T194943
CREATED:20240423T172106Z
LAST-MODIFIED:20240423T182116Z
UID:1099-1715526000-1715558400@almacenterri.com
SUMMARY:Hosni Arias - Music & Food
DESCRIPTION:
URL:https://almacenterri.com/event/hosni-arias-music-food/
LOCATION:Alma Center\, 1017 Broad Street\, Providence\, RI\, 02905
CATEGORIES:public
ATTACH;FMTTYPE=image/jpeg:https://almacenterri.com/wp-content/uploads/2024/04/IMG_2737.jpg
END:VEVENT
BEGIN:VEVENT
DTSTART;TZID=America/New_York:20240426T190000
DTEND;TZID=America/New_York:20240426T235900
DTSTAMP:20260425T194943
CREATED:20240314T122511Z
LAST-MODIFIED:20240314T122511Z
UID:1074-1714158000-1714175940@almacenterri.com
SUMMARY:RKM Ken-Y
DESCRIPTION:
URL:https://almacenterri.com/event/rkm-ken-y/
LOCATION:Alma Center\, 1017 Broad Street\, Providence\, RI\, 02905
CATEGORIES:public
ATTACH;FMTTYPE=image/jpeg:https://almacenterri.com/wp-content/uploads/2024/03/6b0703eb-9b9f-4b0c-b17b-7e9910c64c18.jpg
END:VEVENT
BEGIN:VEVENT
DTSTART;VALUE=DATE:20240419
DTEND;VALUE=DATE:20240420
DTSTAMP:20260425T194943
CREATED:20240219T125348Z
LAST-MODIFIED:20240219T125348Z
UID:1067-1713484800-1713571199@almacenterri.com
SUMMARY:Primer Bachitipico Delano
DESCRIPTION:
URL:https://almacenterri.com/event/primer-bachitipico-delano/
LOCATION:RI
CATEGORIES:public
ATTACH;FMTTYPE=image/jpeg:https://almacenterri.com/wp-content/uploads/2024/02/5208bde5-ad6d-4b5b-a28a-a792ebd1f294.jpg
END:VEVENT
BEGIN:VEVENT
DTSTART;TZID=America/New_York:20240323T210000
DTEND;TZID=America/New_York:20240323T233000
DTSTAMP:20260425T194943
CREATED:20240130T124604Z
LAST-MODIFIED:20240130T124641Z
UID:1062-1711227600-1711236600@almacenterri.com
SUMMARY:Ramon Orlando
DESCRIPTION:
URL:https://almacenterri.com/event/ramon-orlando/
LOCATION:Alma Center\, 1017 Broad Street\, Providence\, RI\, 02905
CATEGORIES:public
ATTACH;FMTTYPE=image/jpeg:https://almacenterri.com/wp-content/uploads/2024/01/eeec26b1-bf8c-49a8-826d-ce02b0b63d0f.jpg
END:VEVENT
BEGIN:VEVENT
DTSTART;VALUE=DATE:20240309
DTEND;VALUE=DATE:20240310
DTSTAMP:20260425T194943
CREATED:20240226T120214Z
LAST-MODIFIED:20240226T120214Z
UID:1070-1709942400-1710028799@almacenterri.com
SUMMARY:Slow Motion
DESCRIPTION:
URL:https://almacenterri.com/event/slow-motion/
LOCATION:Alma Center\, 1017 Broad Street\, Providence\, RI\, 02905
CATEGORIES:public
ATTACH;FMTTYPE=image/jpeg:https://almacenterri.com/wp-content/uploads/2024/02/EC8082EC-E73A-45DE-BEB9-DD04B056DD4A.jpeg
END:VEVENT
BEGIN:VEVENT
DTSTART;TZID=America/New_York:20240217T210000
DTEND;TZID=America/New_York:20240218T010000
DTSTAMP:20260425T194943
CREATED:20231130T111641Z
LAST-MODIFIED:20231130T111641Z
UID:1057-1708203600-1708218000@almacenterri.com
SUMMARY:Frank Reyes
DESCRIPTION:
URL:https://almacenterri.com/event/frank-reyes/
LOCATION:Alma Center\, 1017 Broad Street\, Providence\, RI\, 02905
CATEGORIES:public
ATTACH;FMTTYPE=image/jpeg:https://almacenterri.com/wp-content/uploads/2023/11/1dbfd020-7090-4a81-9075-e35d68b4e6c4.jpg
END:VEVENT
BEGIN:VEVENT
DTSTART;TZID=America/New_York:20231215T210000
DTEND;TZID=America/New_York:20231216T020000
DTSTAMP:20260425T194943
CREATED:20231011T001449Z
LAST-MODIFIED:20231011T132407Z
UID:1007-1702674000-1702692000@almacenterri.com
SUMMARY:Banda Real
DESCRIPTION:
URL:https://almacenterri.com/event/banda-real/
LOCATION:Alma Center\, 1017 Broad Street\, Providence\, RI\, 02905
CATEGORIES:public
ATTACH;FMTTYPE=image/jpeg:https://almacenterri.com/wp-content/uploads/2023/10/cd7a6324-5693-4e56-9356-574f70d8120c.jpg
END:VEVENT
BEGIN:VEVENT
DTSTART;TZID=America/New_York:20231122T200000
DTEND;TZID=America/New_York:20231122T200000
DTSTAMP:20260425T194943
CREATED:20231013T203759Z
LAST-MODIFIED:20231013T203759Z
UID:1018-1700683200-1700683200@almacenterri.com
SUMMARY:WASON BRAZOBAN EN CONCIERTO !
DESCRIPTION:
URL:https://almacenterri.com/event/wason-brazoban-en-concierto/
LOCATION:Alma Center\, 1017 Broad Street\, Providence\, RI\, 02905
CATEGORIES:public
ATTACH;FMTTYPE=image/jpeg:https://almacenterri.com/wp-content/uploads/2023/10/xkj8uzx0mr7bdestybkk-1.jpeg
END:VEVENT
BEGIN:VEVENT
DTSTART;TZID=America/New_York:20231117T210000
DTEND;TZID=America/New_York:20231118T010000
DTSTAMP:20260425T194943
CREATED:20231011T001654Z
LAST-MODIFIED:20231011T132433Z
UID:1013-1700254800-1700269200@almacenterri.com
SUMMARY:Ruby Perez
DESCRIPTION:
URL:https://almacenterri.com/event/ruby-perez/
LOCATION:Alma Center\, 1017 Broad Street\, Providence\, RI\, 02905
CATEGORIES:public
ATTACH;FMTTYPE=image/jpeg:https://almacenterri.com/wp-content/uploads/2023/10/33e1f69f-06c9-4d56-8f86-aa12d7961316.jpg
END:VEVENT
BEGIN:VEVENT
DTSTART;VALUE=DATE:20231020
DTEND;VALUE=DATE:20231021
DTSTAMP:20260425T194943
CREATED:20231018T124622Z
LAST-MODIFIED:20231018T124622Z
UID:1032-1697760000-1697846399@almacenterri.com
SUMMARY:Henry Garcia - Postponed
DESCRIPTION:
URL:https://almacenterri.com/event/henry-garcia-postponed/
LOCATION:Alma Center\, 1017 Broad Street\, Providence\, RI\, 02905
CATEGORIES:public
ATTACH;FMTTYPE=image/jpeg:https://almacenterri.com/wp-content/uploads/2023/10/f48b1154-4e1a-4976-916f-86764e324aaa.jpg
END:VEVENT
BEGIN:VEVENT
DTSTART;TZID=America/New_York:20230927T170000
DTEND;TZID=America/New_York:20230927T200000
DTSTAMP:20260425T194943
CREATED:20230913T113509Z
LAST-MODIFIED:20230913T113509Z
UID:974-1695834000-1695844800@almacenterri.com
SUMMARY:Latina 100.3 FM
DESCRIPTION:
URL:https://almacenterri.com/event/latina-100-3-fm/
LOCATION:Alma Center\, 1017 Broad Street\, Providence\, RI\, 02905
CATEGORIES:public
ATTACH;FMTTYPE=image/jpeg:https://almacenterri.com/wp-content/uploads/2023/09/IMG_4354.jpg
END:VEVENT
BEGIN:VEVENT
DTSTART;TZID=America/New_York:20230922T210000
DTEND;TZID=America/New_York:20230923T020000
DTSTAMP:20260425T194943
CREATED:20230716T172506Z
LAST-MODIFIED:20230913T113234Z
UID:895-1695416400-1695434400@almacenterri.com
SUMMARY:El Rubio Del Acordeon
DESCRIPTION:
URL:https://almacenterri.com/event/el-rubio-del-acordeon/
LOCATION:Alma Center\, 1017 Broad Street\, Providence\, RI\, 02905
CATEGORIES:public
ATTACH;FMTTYPE=image/jpeg:https://almacenterri.com/wp-content/uploads/2023/07/5a728a01-9046-430b-b491-2619d5388c73.jpg
END:VEVENT
BEGIN:VEVENT
DTSTART;TZID=America/New_York:20230813T130000
DTEND;TZID=America/New_York:20230813T210000
DTSTAMP:20260425T194943
CREATED:20230716T172022Z
LAST-MODIFIED:20230716T172022Z
UID:892-1691931600-1691960400@almacenterri.com
SUMMARY:El Ninja Block Party - 3rd Anniversary
DESCRIPTION:
URL:https://almacenterri.com/event/el-ninja-block-party-3rd-anniversary/
LOCATION:RI
CATEGORIES:public
ATTACH;FMTTYPE=image/jpeg:https://almacenterri.com/wp-content/uploads/2023/07/a10629c0-ba67-4dc9-820e-69db4707f2a0.jpg
END:VEVENT
BEGIN:VEVENT
DTSTART;TZID=America/New_York:20230422T200000
DTEND;TZID=America/New_York:20230422T200000
DTSTAMP:20260425T194943
CREATED:20230302T184730Z
LAST-MODIFIED:20230316T163900Z
UID:608-1682193600-1682193600@almacenterri.com
SUMMARY:ALEX BUENO EN CONCIERTO
DESCRIPTION:VENT DETAILS / DESCRIPCION DE EVENTO\nVENTURA ENTERTAINMENT & BOMES THEATRE PRESENTAN \n\nSabado 22 de Abril!\n\nALEX BUENO en concierto\ncon su banda completa!\n\nMUSICA POR DJ TRAVIESO\n\nEN BOMES THEATRE – Tickets $40\n\nRESERVA AHORA – 401.286.6562 o 401.837.3100
URL:https://almacenterri.com/event/alex-bueno-en-concierto/
LOCATION:Alma Center\, 1017 Broad Street\, Providence\, RI\, 02905
CATEGORIES:public
ATTACH;FMTTYPE=image/jpeg:https://almacenterri.com/wp-content/uploads/2023/03/fc969d43-8be2-4f4b-b302-39a7705e11e0.jpg
END:VEVENT
BEGIN:VEVENT
DTSTART;TZID=America/New_York:20230324T220000
DTEND;TZID=America/New_York:20230324T220000
DTSTAMP:20260425T194943
CREATED:20230301T004612Z
LAST-MODIFIED:20230316T163805Z
UID:603-1679695200-1679695200@almacenterri.com
SUMMARY:ZEO MUÑOZ EN CONCIERTO
DESCRIPTION:
URL:https://almacenterri.com/event/zeo-munoz-en-concierto/
LOCATION:Alma Center\, 1017 Broad Street\, Providence\, RI\, 02905
CATEGORIES:public
ATTACH;FMTTYPE=image/jpeg:https://almacenterri.com/wp-content/uploads/2023/02/dbed5460-e383-4e88-bfb1-aadcc9d2a8ea.jpg
END:VEVENT
BEGIN:VEVENT
DTSTART;VALUE=DATE:20230324
DTEND;VALUE=DATE:20230325
DTSTAMP:20260425T194943
CREATED:20230202T140607Z
LAST-MODIFIED:20230316T163805Z
UID:593-1679616000-1679702399@almacenterri.com
SUMMARY:Bachatipico Mas Esperado
DESCRIPTION:
URL:https://almacenterri.com/event/bachatipico-mas-esperado/
LOCATION:Alma Center\, 1017 Broad Street\, Providence\, RI\, 02905
CATEGORIES:public
ATTACH;FMTTYPE=image/jpeg:https://almacenterri.com/wp-content/uploads/2023/02/630be1b3-06b9-4474-a9fb-441eec250e0b.jpg
END:VEVENT
BEGIN:VEVENT
DTSTART;VALUE=DATE:20230317
DTEND;VALUE=DATE:20230318
DTSTAMP:20260425T194943
CREATED:20230226T124010Z
LAST-MODIFIED:20230316T163804Z
UID:599-1679011200-1679097599@almacenterri.com
SUMMARY:Bachatipico Mas Esperado
DESCRIPTION:Buy tickets!
URL:https://almacenterri.com/event/bachatipico-mas-esperado-2/
LOCATION:Alma Center\, 1017 Broad Street\, Providence\, RI\, 02905
CATEGORIES:public
ATTACH;FMTTYPE=image/jpeg:https://almacenterri.com/wp-content/uploads/2023/02/4cc0da04-a77e-4242-aec7-3f02c52463a7.jpg
END:VEVENT
BEGIN:VEVENT
DTSTART;TZID=America/New_York:20230224T200000
DTEND;TZID=America/New_York:20230224T200000
DTSTAMP:20260425T194943
CREATED:20230122T220631Z
LAST-MODIFIED:20230316T163803Z
UID:589-1677268800-1677268800@almacenterri.com
SUMMARY:LA VOZ DE LA TERNURA ZACARIAS FERREIRA EN VIVO
DESCRIPTION:
URL:https://almacenterri.com/event/la-voz-de-la-ternura-zacarias-ferreira-en-vivo/
LOCATION:Alma Center\, 1017 Broad Street\, Providence\, RI\, 02905
CATEGORIES:public
ATTACH;FMTTYPE=image/jpeg:https://almacenterri.com/wp-content/uploads/2023/01/93a5a63c-7df8-46ed-94f4-9559b09ae273.jpg
END:VEVENT
BEGIN:VEVENT
DTSTART;VALUE=DATE:20230211
DTEND;VALUE=DATE:20230212
DTSTAMP:20260425T194943
CREATED:20230116T153907Z
LAST-MODIFIED:20230316T163802Z
UID:585-1676073600-1676159999@almacenterri.com
SUMMARY:Tributo A Aventuro
DESCRIPTION:
URL:https://almacenterri.com/event/tributo-a-aventuro/
LOCATION:Alma Center\, 1017 Broad Street\, Providence\, RI\, 02905
CATEGORIES:public
ATTACH;FMTTYPE=image/jpeg:https://almacenterri.com/wp-content/uploads/2023/01/cc41a138-3bb7-4565-a94f-afe6afd4e5fb.jpg
END:VEVENT
END:VCALENDAR